BEGIN:VCALENDAR
PRODID:-//AT Content Types//AT Event//EN
VERSION:1.0
BEGIN:VEVENT
DTSTART:20101125T080000Z
DTEND:20101127T130000Z
DCREATED:20101027T134106Z
UID:ATEvent-1f39da12f9078ba70b46de8342ac4242
SEQUENCE:0
LAST-MODIFIED:20101027T134746Z
SUMMARY:II Encuentro Movimientos en la Red
DESCRIPTION:Plazo de inscripción abierto hasta el 22 de noviembre
LOCATION:Cádiz
PRIORITY:3
TRANSP:0
END:VEVENT
END:VCALENDAR
