BEGIN:VCALENDAR
PRODID:-//AT Content Types//AT Event//EN
VERSION:2.0
METHOD:PUBLISH
BEGIN:VEVENT
DTSTAMP:20260423T081912Z
CREATED:20091125T020825Z
UID:ATEvent-b381ec38857de952b5afad3efa14ed54
LAST-MODIFIED:20091125T021305Z
SUMMARY:Movimientos en la Red
DTSTART:20091127T090000Z
DTEND:20091128T144500Z
DESCRIPTION:I Encuentro de organizaciones sociales andaluzas con proye
 ctos destacados en Internet.
LOCATION:Cádiz
CATEGORIES:Internet, Organizaciones ciudadanas, Andalucía
CONTACT:CRAC\, movimientosenlared@redasociativa.org
URL:http://www.redasociativa.org/cronicasciudadanas/index.php?option=com_content&view=article&id=66:movenlared&catid=37:cat-encuentros&Itemid=59
CLASS:PUBLIC
END:VEVENT
END:VCALENDAR
